BEGIN:VCALENDAR
VERSION:2.0
PRODID:ConsultVox
NAME:Réunion Publique - Aménagements Cyclables rte de Bischwiller - rue d
 es chasseurs
X-WR-CALNAME:Réunion Publique - Aménagements Cyclables rte de Bischwiller
  - rue des chasseurs
BEGIN:VTIMEZONE
TZID:UTC
BEGIN:STANDARD
DTSTART:20241220T163000Z
TZOFFSETFROM:+0000
TZOFFSETTO:+0000
END:STANDARD
END:VTIMEZONE
BEGIN:VEVENT
UID:82DYCBmD2Pj
DTSTAMP:20260420T112846Z
SUMMARY:Réunion Publique - Aménagements Cyclables rte de Bischwiller - ru
 e des chasseurs
DESCRIPTION:La Ville de Schiltigheim vous invite à venir découvrir les fu
 turs aménagements cyclables sur la route de Bischwiller et la rue des cha
 sseurs. Ce projet permettra de créer une continuité cyclable Nord-Sud de
  la Ville vers Strasbourg.
LOCATION:Le Brassin\, Rue de Vendenheim\, Schiltigheim\, France
DTSTART:20250916T163000Z
DTEND:20250916T180000Z
GEO:48.6075052;7.7455262
END:VEVENT
END:VCALENDAR