BEGIN:VCALENDAR
VERSION:2.0
PRODID:ConsultVox
NAME:Permanences du Budget Participatif
X-WR-CALNAME:Permanences du Budget Participatif
BEGIN:VTIMEZONE
TZID:UTC
BEGIN:STANDARD
DTSTART:20250420T101000Z
TZOFFSETFROM:+0000
TZOFFSETTO:+0000
END:STANDARD
END:VTIMEZONE
BEGIN:VEVENT
UID:OYBXIEm8Lk1
DTSTAMP:20260421T133715Z
SUMMARY:Permanences du Budget Participatif
DESCRIPTION:Découvrez\, échanger\, choisissez vos idées préférées !\n
 Nous venons à votre rencontre pour vous permettre de participer au budget
  participatif via un formulaire papier.\nCliquez pour découvrir les dates
 .
LOCATION:Schiltigheim\, France
DTSTART:20260115T101000Z
DTEND:20260215T225900Z
GEO:48.605226;7.748453
END:VEVENT
END:VCALENDAR