BEGIN:VCALENDAR
VERSION:2.0
PRODID:ConsultVox
NAME:FORUM DU BUDGET PARTICIPATIF
X-WR-CALNAME:FORUM DU BUDGET PARTICIPATIF
BEGIN:VTIMEZONE
TZID:UTC
BEGIN:STANDARD
DTSTART:20250506T090000Z
TZOFFSETFROM:+0000
TZOFFSETTO:+0000
END:STANDARD
END:VTIMEZONE
BEGIN:VEVENT
UID:YEPZUj27K3M
DTSTAMP:20260421T134005Z
SUMMARY:FORUM DU BUDGET PARTICIPATIF
DESCRIPTION:Découvrez - échangez - choisissez vos idées préférées !
LOCATION:Halles du Scilt\, Rue Principale\, Schiltigheim\, France
DTSTART:20260131T090000Z
DTEND:20260131T110000Z
GEO:48.606726;7.7522981
END:VEVENT
END:VCALENDAR